BEGIN:VCALENDAR
VERSION:2.0
PRODID:-//ChamberMaster//Event Calendar 2.0//EN
METHOD:PUBLISH
X-PUBLISHED-TTL:P1H
REFRESH-INTERVAL:P1H
CALSCALE:GREGORIAN
BEGIN:VTIMEZONE
TZID:America/Denver
BEGIN:DAYLIGHT
RRULE:FREQ=YEARLY;BYMONTH=3;BYDAY=2SU
DTSTART:20070101T000000
TZOFFSETFROM:-0700
TZOFFSETTO:-0600
TZNAME:Mountain Daylight Time
END:DAYLIGHT
BEGIN:STANDARD
RRULE:FREQ=YEARLY;BYMONTH=11;BYDAY=1SU
DTSTART:20070101T000000
TZOFFSETFROM:-0600
TZOFFSETTO:-0700
TZNAME:Mountain Standard Time
END:STANDARD
END:VTIMEZONE
BEGIN:VEVENT
DTSTART;TZID=America/Denver:20260520T180000
DTEND;TZID=America/Denver:20260520T210000
X-MICROSOFT-CDO-ALLDAYEVENT:FALSE
SUMMARY:Bingo Night
DESCRIPTION:Get ready to dab\, laugh\, and shout "BINGO!" 🎉Join us for a laid-back\, high-energy Bingo Night where you can swing by when it works for you and stay as long as you're feeling lucky. Whether you're in it for the prizes\, the people\, or just a midweek night out\, this is your sign to grab a card and get in the game.📅 Wednesday\, May 20\n⏰ 6:00 PM   9:00 PM\n📍 Fatt BoysHere's the rundown:\n  $1 per bingo card (play as many rounds as you want)\n  Gift baskets up for grabs for winners\n  Food & drinks available for purchase\n  Come-and-go format no pressure\, just funEven better? Every dollar raised supports the NMAR Charitable Foundation\, helping fund local nonprofits focused on youth\, hunger\, and housing needs in our community. Learn more about the Charitable Foundation here.Bring a friend\, bring your lucky charm\, or just bring your competitive spirit we'll see you there.
X-ALT-DESC;FMTTYPE=text/html:<!DOCTYPE html><html><head><title></title></head><body aria-disabled="false"><p data-end="46" data-start="0">Get ready to dab\, laugh\, and shout &ldquo\;BINGO!&rdquo\; 🎉</p><p data-end="315" data-start="48">Join us for a laid-back\, high-energy Bingo Night where you can swing by when it works for you and stay as long as you&rsquo\;re feeling lucky. Whether you&rsquo\;re in it for the prizes\, the people\, or just a midweek night out\, this is your sign to grab a card and get in the game.</p><p data-end="373" data-start="317">📅 Wednesday\, May 20<br data-start="337" data-end="340">⏰ 6:00 PM &ndash\; 9:00 PM<br data-start="356" data-end="359">📍 Fatt Boys</p><p data-end="580" data-start="375">Here&rsquo\;s the rundown:<br data-start="394" data-end="397">&bull\; $1 per bingo card (play as many rounds as you want)<br data-start="450" data-end="453">&bull\; Gift baskets up for grabs for winners<br data-start="492" data-end="495">&bull\; Food &amp\; drinks available for purchase<br data-start="533" data-end="536" data-is-only-node="">&bull\; Come-and-go format&mdash\;no pressure\, just fun</p><p data-end="747" data-start="582">Even better? Every dollar raised supports the NMAR Charitable Foundation\, helping fund local nonprofits focused on youth\, hunger\, and housing needs in our community.&nbsp\;<a fr-original-style="" href="https://nmar.com/nmar-charitable-foundation/" style="user-select: auto\;">Learn more about the Charitable Foundation here.</a></p><p data-end="847" data-is-last-node="" data-is-only-node="" data-start="749">Bring a friend\, bring your lucky charm\, or just bring your competitive spirit&mdash\;we&rsquo\;ll see you there.</p></body></html>
LOCATION:1307 U.S. Hwy 2 W Kalispell 59901
UID:e.2834.1379942
SEQUENCE:3
DTSTAMP:20260425T003225Z
URL:https://nmar2023.growthzoneapp.com/events-calendar/Details/bingo-night-1629602?sourceTypeId=Hub
END:VEVENT
END:VCALENDAR
